BEGIN:VCALENDAR
VERSION:2.0
BEGIN:VEVENT
URL:https://www.trulytics.petersbuilt.com/community/events/viewevent/18-memphis-area-home-buyers-wealth-builders-workshop 
DTSTART:20190803T100000
DTEND:20190803T140000
SUMMARY:Memphis Area Home Buyers & Wealth Builders Workshop
DESCRIPTION:<p>Free Home Buyers and Wealth Builders Workshop! Come learn how to buy your own home or become a real estate mogul.
</p><p>- Finding the right property
</p><p>- Identifying money-making opportunities
</p><p>- Borrowing options / programs
</p><p>- Accessing free money to buy
</p><p>- Credit repair
</p><p>- Personalized wealth assessments
</p><p>...and so much more.</p>
LOCATION:1355 Lynnfield Rd, Ste 275, Memphis, Tennessee 38119
END:VEVENT
END:VCALENDAR